BEGIN:VCALENDAR
VERSION:2.0
PRODID:-//Rakuunamäen Pumppuhuone - ECPv6.15.20//NONSGML v1.0//EN
CALSCALE:GREGORIAN
METHOD:PUBLISH
X-WR-CALNAME:Rakuunamäen Pumppuhuone
X-ORIGINAL-URL:https://www.rakuunamaenpumppuhuone.fi
X-WR-CALDESC:Tapahtumat Rakuunamäen Pumppuhuone
REFRESH-INTERVAL;VALUE=DURATION:PT1H
X-Robots-Tag:noindex
X-PUBLISHED-TTL:PT1H
BEGIN:VTIMEZONE
TZID:Europe/Helsinki
BEGIN:DAYLIGHT
TZOFFSETFROM:+0200
TZOFFSETTO:+0300
TZNAME:EEST
DTSTART:20210328T010000
END:DAYLIGHT
BEGIN:STANDARD
TZOFFSETFROM:+0300
TZOFFSETTO:+0200
TZNAME:EET
DTSTART:20211031T010000
END:STANDARD
BEGIN:DAYLIGHT
TZOFFSETFROM:+0200
TZOFFSETTO:+0300
TZNAME:EEST
DTSTART:20220327T010000
END:DAYLIGHT
BEGIN:STANDARD
TZOFFSETFROM:+0300
TZOFFSETTO:+0200
TZNAME:EET
DTSTART:20221030T010000
END:STANDARD
BEGIN:DAYLIGHT
TZOFFSETFROM:+0200
TZOFFSETTO:+0300
TZNAME:EEST
DTSTART:20230326T010000
END:DAYLIGHT
BEGIN:STANDARD
TZOFFSETFROM:+0300
TZOFFSETTO:+0200
TZNAME:EET
DTSTART:20231029T010000
END:STANDARD
END:VTIMEZONE
BEGIN:VEVENT
DTSTART;TZID=Europe/Helsinki:20220426T180000
DTEND;TZID=Europe/Helsinki:20220426T200000
DTSTAMP:20260424T152332
CREATED:20220411T071704Z
LAST-MODIFIED:20221231T090241Z
UID:10000009-1650996000-1651003200@www.rakuunamaenpumppuhuone.fi
SUMMARY:Pallon ja Leirin kaupunginosatilaisuus
DESCRIPTION:Haluatko tietää miten Pallon ja Leirin kaupunginosa ovat kehittynyt 100 vuodessa? \n100 valokuvan avulla historialliset Pallo ja Leiri esittäytyvät aina 100 vuoden takaa\, mutta vertailuksi myös mitä se on nyt? \nMuistelo ja keskustelutilaisuus tiistaina 26.4. klo 18 Rakuunamäen Pumppuhuoneella. Järjestää Leirin ja Pallon kaupunginosayhdistys ry. \nKatselmusta juontaa Jussi Sirkiä\, pj.
URL:https://www.rakuunamaenpumppuhuone.fi/tapahtuma/pallon-ja-leirin-kaupunginosatilaisuus-ti-26-4-2022/
LOCATION:Rakuunamäen pumppuhuone\, Muinaisrantaraitti 1\, Lappeenranta\, 53600\, Suomi
CATEGORIES:Yleisötapahtuma
ATTACH;FMTTYPE=image/jpeg:https://www.rakuunamaenpumppuhuone.fi/wp-content/uploads/2022/02/Laskiainen-2020-scaled.jpg
END:VEVENT
END:VCALENDAR