BEGIN:VCALENDAR
VERSION:2.0
PRODID:-//Rakuunamäen Pumppuhuone - ECPv6.15.20//NONSGML v1.0//EN
CALSCALE:GREGORIAN
METHOD:PUBLISH
X-WR-CALNAME:Rakuunamäen Pumppuhuone
X-ORIGINAL-URL:https://www.rakuunamaenpumppuhuone.fi
X-WR-CALDESC:Tapahtumat Rakuunamäen Pumppuhuone
REFRESH-INTERVAL;VALUE=DURATION:PT1H
X-Robots-Tag:noindex
X-PUBLISHED-TTL:PT1H
BEGIN:VTIMEZONE
TZID:Europe/Helsinki
BEGIN:DAYLIGHT
TZOFFSETFROM:+0200
TZOFFSETTO:+0300
TZNAME:EEST
DTSTART:20180325T010000
END:DAYLIGHT
BEGIN:STANDARD
TZOFFSETFROM:+0300
TZOFFSETTO:+0200
TZNAME:EET
DTSTART:20181028T010000
END:STANDARD
BEGIN:DAYLIGHT
TZOFFSETFROM:+0200
TZOFFSETTO:+0300
TZNAME:EEST
DTSTART:20190331T010000
END:DAYLIGHT
BEGIN:STANDARD
TZOFFSETFROM:+0300
TZOFFSETTO:+0200
TZNAME:EET
DTSTART:20191027T010000
END:STANDARD
BEGIN:DAYLIGHT
TZOFFSETFROM:+0200
TZOFFSETTO:+0300
TZNAME:EEST
DTSTART:20200329T010000
END:DAYLIGHT
BEGIN:STANDARD
TZOFFSETFROM:+0300
TZOFFSETTO:+0200
TZNAME:EET
DTSTART:20201025T010000
END:STANDARD
END:VTIMEZONE
BEGIN:VEVENT
DTSTART;TZID=Europe/Helsinki:20190830T080000
DTEND;TZID=Europe/Helsinki:20190830T210000
DTSTAMP:20260424T194432
CREATED:20190712T060046Z
LAST-MODIFIED:20190712T060046Z
UID:10000016-1567152000-1567198800@www.rakuunamaenpumppuhuone.fi
SUMMARY:Yksityistilaisuus
DESCRIPTION:
URL:https://www.rakuunamaenpumppuhuone.fi/tapahtuma/yksityistilaisuus-pe-2019-08-30/
LOCATION:Rakuunamäen pumppuhuone\, Muinaisrantaraitti 1\, Lappeenranta\, 53600\, Suomi
CATEGORIES:Yksityistilaisuus
ATTACH;FMTTYPE=image/jpeg:https://www.rakuunamaenpumppuhuone.fi/wp-content/uploads/2019/06/Teltta-1.jpg
ORGANIZER;CN="Rakuunam%C3%A4en Pumppuhuone":MAILTO:juhani.sirkia@outlook.com
END:VEVENT
BEGIN:VEVENT
DTSTART;TZID=Europe/Helsinki:20190825T080000
DTEND;TZID=Europe/Helsinki:20190825T170000
DTSTAMP:20260424T194432
CREATED:20190825T195345Z
LAST-MODIFIED:20190825T195624Z
UID:10000014-1566720000-1566752400@www.rakuunamaenpumppuhuone.fi
SUMMARY:Startti syksyyn kaikenikäisille la 31.8. klo 10-14
DESCRIPTION:PUMPPUHUONE\nAvoimet ovet ja puffetti Pumppuhuoneella. Lappeenrannan veden näyttely  ja tarina\,  Tohtori-Taikuri Ilkka Vertanen tekee taikatemppuja klo 11.00.                                         Linnoituksen isäntä Anu Talka tuo omat tervehdykset klo 13.00 reippailijoille. \nSuunnistusseura Raja-Karjalan Suunnistajat ry esittelee kiintorastitoimintaa. \nVANERITEHTAAN KOSTEIKKO                                                                                                                                                                                                                                                               Pidetään Pien-Saimaa puhtaana!   Tutustu Vaneritehtaan alueen Saunarannan kivikko kosteikkopuistoon. \nUPSEERIKERHO                                                                                                                                                                                                                                                                                   Upseerikerholla voit käydä lounastamassa klo 11–14 edullisen lounaan. \nUpseerikerhon esittely. Tutustu saunaosastoon. \nKORKKITEHTAAN RANTA                                                                                                                                                                                                                                                                Lappeenrannan liikuntatoimi on kehittänyt Korkkitehtaanrannasta jälleen kiinnostavan ja toimivan ranta-alueen. Lapsille oma leikkipuisto\, aktiiviiliikkujille kuntoiluvälineet\,  ”Toiveiden tynnyri” Korkkitehtaan ranta-alueen edelleen kehittämiseksi. \nHUHTINIEMI\nHuhtiniemen Lähde pulppuaa hyvää vettä – Ota mukaan oma pullo tai kanisteri. \nHuhtiniemen ”alastulorinne” uudistuu. Pian alkaa tapahtumaan! \nPumppuhuoneen tarinaillat alkavat lokakuussa!.             Tule ja tuo ystäväsikin mukaan!
URL:https://www.rakuunamaenpumppuhuone.fi/tapahtuma/startti-syksyyn-kaikenikaisille-la-31-8-klo-10-14/
LOCATION:Rakuunamäen pumppuhuone\, Muinaisrantaraitti 1\, Lappeenranta\, 53600\, Suomi
ORGANIZER;CN="Rakuunam%C3%A4en Pumppuhuone":MAILTO:juhani.sirkia@outlook.com
END:VEVENT
BEGIN:VEVENT
DTSTART;TZID=Europe/Helsinki:20190824T130000
DTEND;TZID=Europe/Helsinki:20190824T170000
DTSTAMP:20260424T194432
CREATED:20190712T055427Z
LAST-MODIFIED:20190712T055603Z
UID:10000030-1566651600-1566666000@www.rakuunamaenpumppuhuone.fi
SUMMARY:Kokous
DESCRIPTION:tila varattu
URL:https://www.rakuunamaenpumppuhuone.fi/tapahtuma/kokous-la-2019-08-24/
LOCATION:Rakuunamäen pumppuhuone\, Muinaisrantaraitti 1\, Lappeenranta\, 53600\, Suomi
CATEGORIES:Kokous
ATTACH;FMTTYPE=image/jpeg:https://www.rakuunamaenpumppuhuone.fi/wp-content/uploads/2019/06/IMG-20190409-WA0000-1.jpg
ORGANIZER;CN="Rakuunam%C3%A4en Pumppuhuone":MAILTO:juhani.sirkia@outlook.com
END:VEVENT
BEGIN:VEVENT
DTSTART;TZID=Europe/Helsinki:20190823T140000
DTEND;TZID=Europe/Helsinki:20190823T220000
DTSTAMP:20260424T194432
CREATED:20190817T081227Z
LAST-MODIFIED:20190817T081227Z
UID:10000004-1566568800-1566597600@www.rakuunamaenpumppuhuone.fi
SUMMARY:Viihdettä ja säpinää
DESCRIPTION:Erilaista musiikkitarjontaa \nKenttäsauna \nGrillistä hyvää \nJärjestäjä: KAIK´ KÄY -klubi \n  \n 
URL:https://www.rakuunamaenpumppuhuone.fi/tapahtuma/viihdetta-ja-sapinaa/
LOCATION:Rakuunamäen pumppuhuone\, Muinaisrantaraitti 1\, Lappeenranta\, 53600\, Suomi
ORGANIZER;CN="Rakuunam%C3%A4en Pumppuhuone":MAILTO:juhani.sirkia@outlook.com
END:VEVENT
BEGIN:VEVENT
DTSTART;TZID=Europe/Helsinki:20190820T180000
DTEND;TZID=Europe/Helsinki:20190820T210000
DTSTAMP:20260424T194432
CREATED:20190712T055334Z
LAST-MODIFIED:20190712T055400Z
UID:10000029-1566324000-1566334800@www.rakuunamaenpumppuhuone.fi
SUMMARY:Kokous
DESCRIPTION:tila varattu
URL:https://www.rakuunamaenpumppuhuone.fi/tapahtuma/kokous-ti-2019-08-20/
LOCATION:Rakuunamäen pumppuhuone\, Muinaisrantaraitti 1\, Lappeenranta\, 53600\, Suomi
CATEGORIES:Kokous
ATTACH;FMTTYPE=image/jpeg:https://www.rakuunamaenpumppuhuone.fi/wp-content/uploads/2019/06/Vappu1-1-scaled.jpg
ORGANIZER;CN="Rakuunam%C3%A4en Pumppuhuone":MAILTO:juhani.sirkia@outlook.com
END:VEVENT
BEGIN:VEVENT
DTSTART;TZID=Europe/Helsinki:20190814T170000
DTEND;TZID=Europe/Helsinki:20190814T210000
DTSTAMP:20260424T194432
CREATED:20190712T055053Z
LAST-MODIFIED:20190712T055053Z
UID:10000027-1565802000-1565816400@www.rakuunamaenpumppuhuone.fi
SUMMARY:Kokous
DESCRIPTION:kokous\, tila varattu
URL:https://www.rakuunamaenpumppuhuone.fi/tapahtuma/kokous/
LOCATION:Rakuunamäen pumppuhuone\, Muinaisrantaraitti 1\, Lappeenranta\, 53600\, Suomi
CATEGORIES:Kokous
ATTACH;FMTTYPE=image/jpeg:https://www.rakuunamaenpumppuhuone.fi/wp-content/uploads/2019/07/IMG-20190427-WA0000.jpg
ORGANIZER;CN="Rakuunam%C3%A4en Pumppuhuone":MAILTO:juhani.sirkia@outlook.com
END:VEVENT
BEGIN:VEVENT
DTSTART;TZID=Europe/Helsinki:20190810T130000
DTEND;TZID=Europe/Helsinki:20190810T210000
DTSTAMP:20260424T194432
CREATED:20190712T055232Z
LAST-MODIFIED:20190712T055250Z
UID:10000028-1565442000-1565470800@www.rakuunamaenpumppuhuone.fi
SUMMARY:Yksityistilaisuus
DESCRIPTION:
URL:https://www.rakuunamaenpumppuhuone.fi/tapahtuma/yksityistilaisuus-la-2019-08-14/
LOCATION:Rakuunamäen pumppuhuone\, Muinaisrantaraitti 1\, Lappeenranta\, 53600\, Suomi
CATEGORIES:Yksityistilaisuus
ATTACH;FMTTYPE=image/jpeg:https://www.rakuunamaenpumppuhuone.fi/wp-content/uploads/2019/07/MG_1805-scaled.jpg
ORGANIZER;CN="Rakuunam%C3%A4en Pumppuhuone":MAILTO:juhani.sirkia@outlook.com
END:VEVENT
BEGIN:VEVENT
DTSTART;TZID=Europe/Helsinki:20190804T130000
DTEND;TZID=Europe/Helsinki:20190804T180000
DTSTAMP:20260424T194432
CREATED:20190712T054641Z
LAST-MODIFIED:20190712T054746Z
UID:10000026-1564923600-1564941600@www.rakuunamaenpumppuhuone.fi
SUMMARY:Yksityistilaisuus
DESCRIPTION:yksityisyystilaisuus\, tila varattu
URL:https://www.rakuunamaenpumppuhuone.fi/tapahtuma/yksityistilaisuus-su-2019-08-04/
LOCATION:Rakuunamäen pumppuhuone\, Muinaisrantaraitti 1\, Lappeenranta\, 53600\, Suomi
CATEGORIES:Yksityistilaisuus
ATTACH;FMTTYPE=image/jpeg:https://www.rakuunamaenpumppuhuone.fi/wp-content/uploads/2019/06/20190505_131300-scaled.jpg
ORGANIZER;CN="Rakuunam%C3%A4en Pumppuhuone":MAILTO:juhani.sirkia@outlook.com
END:VEVENT
BEGIN:VEVENT
DTSTART;TZID=Europe/Helsinki:20190803T130000
DTEND;TZID=Europe/Helsinki:20190803T180000
DTSTAMP:20260424T194432
CREATED:20190712T054602Z
LAST-MODIFIED:20190712T054623Z
UID:10000013-1564837200-1564855200@www.rakuunamaenpumppuhuone.fi
SUMMARY:Yksityistilaisuus
DESCRIPTION:tila varattu\, yksityistilaisuus
URL:https://www.rakuunamaenpumppuhuone.fi/tapahtuma/yksityistilaisuus-la-2019-08-03/
LOCATION:Rakuunamäen pumppuhuone\, Muinaisrantaraitti 1\, Lappeenranta\, 53600\, Suomi
CATEGORIES:Yksityistilaisuus
ATTACH;FMTTYPE=image/jpeg:https://www.rakuunamaenpumppuhuone.fi/wp-content/uploads/2019/06/20190626_173335-scaled.jpg
ORGANIZER;CN="Rakuunam%C3%A4en Pumppuhuone":MAILTO:juhani.sirkia@outlook.com
END:VEVENT
BEGIN:VEVENT
DTSTART;TZID=Europe/Helsinki:20190721T120000
DTEND;TZID=Europe/Helsinki:20190721T160000
DTSTAMP:20260424T194432
CREATED:20190712T054430Z
LAST-MODIFIED:20190712T054451Z
UID:10000012-1563710400-1563724800@www.rakuunamaenpumppuhuone.fi
SUMMARY:Yksityistilaisuus
DESCRIPTION:yksityistilaisuus\, tila varattu
URL:https://www.rakuunamaenpumppuhuone.fi/tapahtuma/yksityistilaisuus-su-2019-07-21/
LOCATION:Rakuunamäen pumppuhuone\, Muinaisrantaraitti 1\, Lappeenranta\, 53600\, Suomi
CATEGORIES:Yksityistilaisuus
ATTACH;FMTTYPE=image/jpeg:https://www.rakuunamaenpumppuhuone.fi/wp-content/uploads/2019/06/20190325_120131-1-scaled.jpg
ORGANIZER;CN="Rakuunam%C3%A4en Pumppuhuone":MAILTO:juhani.sirkia@outlook.com
END:VEVENT
BEGIN:VEVENT
DTSTART;VALUE=DATE:20190713
DTEND;VALUE=DATE:20190715
DTSTAMP:20260424T194432
CREATED:20190707T061948Z
LAST-MODIFIED:20190707T062356Z
UID:10000017-1562976000-1563148799@www.rakuunamaenpumppuhuone.fi
SUMMARY:Iloista liikkumista Rantaraitin maastoissa
DESCRIPTION:Pumppuhuone jää mukavasti Rantaraitin ja Korkkitehtaan rannan lenkillä yhdeksi etapiksi ja sitä voi ihastella myös ulkoa päin. \n\n			\n				\n			\n			\n				\n			\n				\n				Rantaraitilla kohtaavat kaikki ikäluokat\n				\n			\n				\n			\n			\n				\n			\n				\n				Ulkoilu rantaraitilla on suosittua kaikkina vuodenaikoina\n				\n			\n				\n			\n				\n				Kesällä Saimaa on kauneimmillaan\n				\n			\n				\n			\n				\n				Rantaraitti on nähtävyys keväällä\, kesällä kuin myös syksyllä\n				\n		\n\nOta yhteyttä jos tarvetta!
URL:https://www.rakuunamaenpumppuhuone.fi/tapahtuma/iloista-liikkumista-rantaraitin-maastoissa/
LOCATION:Rakuunamäen pumppuhuone\, Muinaisrantaraitti 1\, Lappeenranta\, 53600\, Suomi
CATEGORIES:Yleisötapahtuma
ATTACH;FMTTYPE=image/jpeg:https://www.rakuunamaenpumppuhuone.fi/wp-content/uploads/2019/07/MG_0099.jpg
ORGANIZER;CN="Rakuunam%C3%A4en Pumppuhuone":MAILTO:juhani.sirkia@outlook.com
END:VEVENT
BEGIN:VEVENT
DTSTART;TZID=Europe/Helsinki:20190709T080000
DTEND;TZID=Europe/Helsinki:20190709T170000
DTSTAMP:20260424T194432
CREATED:20190709T184125Z
LAST-MODIFIED:20190817T080348Z
UID:10000011-1562659200-1562691600@www.rakuunamaenpumppuhuone.fi
SUMMARY:Rantaraitin syyssäpinät la 31.8. klo 10-14
DESCRIPTION:Nähtävyyskävely RANTARAITILLA                                                                                                                                                          lauantaina 31. elokuuta klo 10- 14 \nTule elokuun rantaraittikävelylle tai pyöräilylle. Poikkea nähtävyyskohteissa \nHUHTINIEMI \nMaisemakohde\, jossa mahdollisuus lorauttaa omaan pulloon lähdevettä. Tutustu myös Huhtiniemen saunaan. \nRantaraitin maisemainfotaulut kertovat Sinulle monimuotoisesta Huhtiniemen alueen luonnosta. \nKORKKITEHTAANRANTA -ALUE \nKorkkitehtaan ranta-alue on uudistettu! Nyt lapsille oma leikkipuisto\, senioreille kuntoiluvälineet\, WC ja pukukopit\, suosittu koko perheen matonpesupaikka \nPUMPPUHUONE www.rakuunamaenpumppuhuone.fi \nTutustu opastettuna Pumppuhuoneeseen. Nyt esillä Lappeenrannan puhtaan veden tarina.                                                                                                                                                                           Puffetista kahvia\, lettuja ja makkaraa. Syksyn Pumppuhuoneen tarinaillat -ohjelma. \nEsillä mm. sähköavusteiset polkupyöräuutuudet. \nUPSEERIKERHO www.lappeenrannanupseerikerho.fi \nKäy tustumassa terassiin ja lounastarjouksiin \nVANERITEHTAAN KOSTEIKKO \nPidetään Pien-Saimaa puhtaana. Tutustu Vaneritehtaan alueen kosteikkoratkaisuihin \nKLO 16.00 ALKAEN YKSITYSITILAISUUS
URL:https://www.rakuunamaenpumppuhuone.fi/tapahtuma/rantaraitin-syyssapinat-la-31-8-klo-10-14/
LOCATION:Rakuunamäen pumppuhuone\, Muinaisrantaraitti 1\, Lappeenranta\, 53600\, Suomi
CATEGORIES:Yleisötapahtuma
ORGANIZER;CN="Rakuunam%C3%A4en Pumppuhuone":MAILTO:juhani.sirkia@outlook.com
END:VEVENT
BEGIN:VEVENT
DTSTART;VALUE=DATE:20190707
DTEND;VALUE=DATE:20190708
DTSTAMP:20260424T194432
CREATED:20190707T043346Z
LAST-MODIFIED:20190707T052328Z
UID:10000019-1562457600-1562543999@www.rakuunamaenpumppuhuone.fi
SUMMARY:Päiväkävely Rantaraitilla
DESCRIPTION:Päiväkävely Rantaraitilla
URL:https://www.rakuunamaenpumppuhuone.fi/tapahtuma/paivakavely-rantaraitilla/
LOCATION:Rakuunamäen pumppuhuone\, Muinaisrantaraitti 1\, Lappeenranta\, 53600\, Suomi
ATTACH;FMTTYPE=image/jpeg:https://www.rakuunamaenpumppuhuone.fi/wp-content/uploads/2019/06/20190626_173517-scaled.jpg
END:VEVENT
END:VCALENDAR